BEGIN:VCALENDAR
VERSION:2.0
PRODID:-//Hobsonville Point Residents Society - ECPv6.15.13.1//NONSGML v1.0//EN
CALSCALE:GREGORIAN
METHOD:PUBLISH
X-WR-CALNAME:Hobsonville Point Residents Society
X-ORIGINAL-URL:https://www.hprs.co.nz
X-WR-CALDESC:Events for Hobsonville Point Residents Society
REFRESH-INTERVAL;VALUE=DURATION:PT1H
X-Robots-Tag:noindex
X-PUBLISHED-TTL:PT1H
BEGIN:VTIMEZONE
TZID:UTC
BEGIN:STANDARD
TZOFFSETFROM:+0000
TZOFFSETTO:+0000
TZNAME:UTC
DTSTART:20160101T000000
END:STANDARD
END:VTIMEZONE
BEGIN:VEVENT
DTSTART;TZID=UTC:20171024T183000
DTEND;TZID=UTC:20171024T203000
DTSTAMP:20260425T004247
CREATED:20170515T013551Z
LAST-MODIFIED:20170515T013551Z
UID:883-1508869800-1508877000@www.hprs.co.nz
SUMMARY:HPRS Annual Meeting
DESCRIPTION:The 2017 Annual Meeting of the Hobsonville Point Residents Society will be held at 6:30pm on October 24 at the Hobsonville Point Secondary School. Open to all HPRS members.
URL:https://www.hprs.co.nz/event/hprs-annual-meeting/
LOCATION:Hobsonville Point Secondary School\, 70 Hobsonville Point Rd\, Auckland\, 0616\, New Zealand
END:VEVENT
END:VCALENDAR